{"text_format":"1","workbook":"xlsx","n_sheets":5,"sheets":["Pril1","Pril2","Pril3","obl","zav"],"not_rendered":{"charts":0,"images":0,"macros":1,"external_links":0,"defined_names":6,"comments":0,"pivot_tables":0},"unopened":[],"bounds":{"document_bytes":16777216,"sheet_cells":100000,"rows_first":2000,"rows_last":500,"rows_between":2000,"halvings":0,"cell_chars":16384,"cell_head_chars":4096},"cells_cut":0,"cells_raw":0,"read":"whole","date_system":"1900"}

{"sheet":"Pril1","index":0,"n_rows":67,"n_cols":31,"rows_kept":67,"cut":false,"hidden":false,"merged":[[65,13,65,15],[65,26,65,27],[65,28,65,30],[66,13,66,15],[66,26,66,27],[66,28,66,30],[8,29,9,29],[64,3,64,4],[64,13,64,15],[64,18,64,19],[64,26,64,27],[64,28,64,30],[63,3,63,5],[63,13,63,15],[63,18,63,21],[63,26,63,27],[63,28,63,30],[8,23,9,23],[8,24,9,24],[8,25,9,25],[8,27,9,27],[8,28,9,28],[8,18,9,18],[8,19,9,19],[8,20,9,20],[8,21,9,21],[8,22,9,22],[7,26,9,26],[7,27,7,30],[8,2,9,2],[8,3,9,3],[8,4,9,4],[8,5,9,5],[8,6,9,6],[8,7,9,7],[8,8,9,8],[8,9,9,9],[8,10,9,10],[8,11,9,11],[8,12,9,12],[8,13,9,13],[8,16,9,16],[8,30,9,30],[2,25,2,26],[2,27,2,29],[4,2,4,12],[5,2,5,7],[7,0,9,0],[7,1,9,1],[7,2,7,13],[7,14,9,14],[7,15,9,15],[7,16,7,25],[2,2,2,3],[2,4,2,8],[2,9,2,10],[2,17,2,19],[2,20,2,24],[8,17,9,17],[0,14,0,15],[1,4,1,6],[1,18,1,19],[1,20,1,22],[1,24,1,26]]}
[]
[{"$f":"IF(ISNA(VLOOKUP(E2,obl!A1:B28,2,FALSE))=TRUE,\"\",(VLOOKUP(E2,obl!A1:B28,2,FALSE)))","v":""},null,null,"Област:",null,null,null,"Община:",{"$f":"IF(ISNA(VLOOKUP(E3,zav!C1:F195,4,FALSE))=TRUE,\"\",(VLOOKUP(E3,zav!C1:F195,4,FALSE)))","v":""},null,null,null,null,null,null,null,null,null,"Област:",null,{"$f":"E2","v":0},null,null,"Община:",{"$f":"I2","v":""}]
[{"$f":"IF(ISNA(VLOOKUP(E3,zav!C1:E195,3,FALSE))=TRUE,\"\",(VLOOKUP(E3,zav!C1:E195,3,FALSE)))","v":""},null,"Лечебно заведение:",null,null,null,null,null,null,"Регистрационен №:",null,{"$f":"IF(ISNA(VLOOKUP(E3,zav!C1:E195,2,FALSE))=TRUE,\"\",(VLOOKUP(E3,zav!C1:E195,2,FALSE)))","v":""},null,null,null,null,null,"Лечебно заведение:",null,null,{"$f":"E3","v":0},null,null,null,null,"Регистрационен №:",null,{"$f":"L3","v":""}]
[]
[null,null,"Извършени фактически разходи, реализирана дейност, численост на персонала и средна "]
[null,null,"работна заплата в лечебното заведение",null,null,null,null,null,"през",2020,"г."]
[]
["№","БОЛНИЧНИ ОТДЕЛЕНИЯ/ЗВЕНА","Разходи по видове",null,null,null,null,null,null,null,null,null,null,null,"КАПИТА-ЛОВИ РАЗХОДИ","ПРИХОДИ НА ЛЕЧЕБНОТО ЗАВЕДЕНИЕ","Р е а л и з и р а н а    д е й н о с т",null,null,null,null,null,null,null,null,null,"Брой преминали болни през отделенията","Численост на персонала (средносписъчен състав)"]
[null,null,"Заплати и възнагражде-ния на персонала по труд. договори","Други възнагражде-ния на персонала","Осигурителни вноски","Храна за болни","Лекарства","Медицински консумативи","Горива, вода и енергия","Други материали","Разходи за текуща поддръжка","Разходи за амортизации","Всички други разходи","ВСИЧКО ТЕКУЩИ РАЗХОДИ",null,null,"Средно-годишен брой легла/места за краткотра-ен престой","Реализирани леглодни","Брой болни/ процедури/ решения","Болни в началото на отчетния период","Постъпили болни","Приведени от други отделения","Изписани","Преведени в други отделения","Умрели","Остават в края на отчетния период",null,"Висш с меди-цинско образо-вание","Висш с немеди-цинско образо-вание","Мед. специалис- ти по здравни грижи","Друг персонал"]
[]
[1,2,3,4,5,6,7,8,9,10,11,12,13,14,15,16,17,18,19,20,21,22,23,24,25,26,27,28,29,30,31]
["01","Интензивни",null,null,null,null,null,null,null,null,null,null,null,{"$f":"SUM(C12:M12)","v":0},{"$f":"Pril3!L12","v":0},{"$f":"Pril2!K12","v":0},null,null,"х",null,null,null,null,null,null,null,{"$f":"SUM(T12:Y12)/2","v":0}]
["02","Гинекология",null,null,null,null,null,null,null,null,null,null,null,{"$f":"SUM(C13:M13)","v":0},{"$f":"Pril3!L13","v":0},{"$f":"Pril2!K13","v":0},null,null,"х",null,null,null,null,null,null,null,{"$f":"SUM(T13:Y13)/2","v":0}]
["03","Родилни",null,null,null,null,null,null,null,null,null,null,null,0,{"$f":"Pril3!L14","v":0},{"$f":"Pril2!K14","v":0},null,null,"х",null,null,null,null,null,null,null,0]
["04","Патологична бременност",null,null,null,null,null,null,null,null,null,null,null,0,{"$f":"Pril3!L15","v":0},{"$f":"Pril2!K15","v":0},null,null,"х",null,null,null,null,null,null,null,0]
["05","Педиатрични",null,null,null,null,null,null,null,null,null,null,null,0,{"$f":"Pril3!L16","v":0},{"$f":"Pril2!K16","v":0},null,null,"х",null,null,null,null,null,null,null,0]
["06","Вътрешни болести",null,null,null,null,null,null,null,null,null,null,null,0,{"$f":"Pril3!L17","v":0},{"$f":"Pril2!K17","v":0},null,null,"х",null,null,null,null,null,null,null,{"$f":"SUM(T17:Y17)/2","v":0}]
["07","Гастроентерология",null,null,null,null,null,null,null,null,null,null,null,0,{"$f":"Pril3!L18","v":0},{"$f":"Pril2!K18","v":0},null,null,"х",null,null,null,null,null,null,null,0]
["08","Ендокринология и болести на обмяната",null,null,null,null,null,null,null,null,null,null,null,0,{"$f":"Pril3!L19","v":0},{"$f":"Pril2!K19","v":0},null,null,"х",null,null,null,null,null,null,null,0]
["09","Кардиология",null,null,null,null,null,null,null,null,null,null,null,0,{"$f":"Pril3!L20","v":0},{"$f":"Pril2!K20","v":0},null,null,"х",null,null,null,null,null,null,null,0]
["10","Нефрология",null,null,null,null,null,null,null,null,null,null,null,0,{"$f":"Pril3!L21","v":0},{"$f":"Pril2!K21","v":0},null,null,"х",null,null,null,null,null,null,null,0]
["11","Ревматология",null,null,null,null,null,null,null,null,null,null,null,0,{"$f":"Pril3!L22","v":0},{"$f":"Pril2!K22","v":0},null,null,"х",null,null,null,null,null,null,null,0]
["12","Пневмология и фтизиатрия",null,null,null,null,null,null,null,null,null,null,null,0,{"$f":"Pril3!L23","v":0},{"$f":"Pril2!K23","v":0},null,null,"х",null,null,null,null,null,null,null,0]
["13","Клинична хематология",null,null,null,null,null,null,null,null,null,null,null,0,{"$f":"Pril3!L24","v":0},{"$f":"Pril2!K24","v":0},null,null,"х",null,null,null,null,null,null,null,0]
["14","Инфекциозни болести",null,null,null,null,null,null,null,null,null,null,null,0,{"$f":"Pril3!L25","v":0},{"$f":"Pril2!K25","v":0},null,null,"х",null,null,null,null,null,null,null,0]
["15","COVID-19 инфекция",null,null,null,null,null,null,null,null,null,null,null,{"$f":"SUM(C26:M26)","v":0},{"$f":"Pril3!L26","v":0},{"$f":"Pril2!K26","v":0},null,null,"х",null,null,null,null,null,null,null,0]
["16","Нервни болести",null,null,null,null,null,null,null,null,null,null,null,0,{"$f":"Pril3!L27","v":0},{"$f":"Pril2!K27","v":0},null,null,"х",null,null,null,null,null,null,null,0]
["17","Кожни и венерически болести",null,null,null,null,null,null,null,null,null,null,null,0,{"$f":"Pril3!L28","v":0},{"$f":"Pril2!K28","v":0},null,null,"х",null,null,null,null,null,null,null,0]
["18","Медицинска онкология",null,null,null,null,null,null,null,null,null,null,null,0,{"$f":"Pril3!L29","v":0},{"$f":"Pril2!K29","v":0},null,null,"х",null,null,null,null,null,null,null,0]
["19","Лъчелечение",null,null,null,null,null,null,null,null,null,null,null,0,{"$f":"Pril3!L30","v":0},{"$f":"Pril2!K30","v":0},null,null,"х",null,null,null,null,null,null,null,0]
["20","Хирургия",null,null,null,null,null,null,null,null,null,null,null,0,{"$f":"Pril3!L31","v":0},{"$f":"Pril2!K31","v":0},null,null,"х",null,null,null,null,null,null,null,0]
["21","Неврохирургия",null,null,null,null,null,null,null,null,null,null,null,0,{"$f":"Pril3!L32","v":0},{"$f":"Pril2!K32","v":0},null,null,"х",null,null,null,null,null,null,null,0]
["22","Ортопедия и травматология",null,null,null,null,null,null,null,null,null,null,null,0,{"$f":"Pril3!L33","v":0},{"$f":"Pril2!K33","v":0},null,null,"х",null,null,null,null,null,null,null,0]
["23","Урология",null,null,null,null,null,null,null,null,null,null,null,0,{"$f":"Pril3!L34","v":0},{"$f":"Pril2!K34","v":0},null,null,"х",null,null,null,null,null,null,null,0]
["24","Очни болести ",null,null,null,null,null,null,null,null,null,null,null,0,{"$f":"Pril3!L35","v":0},{"$f":"Pril2!K35","v":0},null,null,"х",null,null,null,null,null,null,null,0]
["25","Ушно-носно-гърлени болести",null,null,null,null,null,null,null,null,null,null,null,0,{"$f":"Pril3!L36","v":0},{"$f":"Pril2!K36","v":0},null,null,"х",null,null,null,null,null,null,null,0]
["26","За дългосрочни грижи",null,null,null,null,null,null,null,null,null,null,null,0,{"$f":"Pril3!L37","v":0},{"$f":"Pril2!K37","v":0},null,null,"х",null,null,null,null,null,null,null,0]
["27","За рехабилитация",null,null,null,null,null,null,null,null,null,null,null,0,{"$f":"Pril3!L38","v":0},{"$f":"Pril2!K38","v":0},null,null,"х",null,null,null,null,null,null,null,0]
["28","Психиатрични",null,null,null,null,null,null,null,null,null,null,null,0,{"$f":"Pril3!L39","v":0},{"$f":"Pril2!K39","v":0},null,null,"х",null,null,null,null,null,null,null,0]
["29","Други специалицирани",null,null,null,null,null,null,null,null,null,null,null,0,{"$f":"Pril3!L40","v":0},{"$f":"Pril2!K40","v":0},null,null,"х",null,null,null,null,null,null,null,0]
["30","Всичко от р.1 до р. 29",{"$f":"SUM(C12:C40)","v":0},0,0,0,0,0,0,0,0,0,0,0,0,0,0,0,"х",{"$f":"SUM(T12:T40)","v":0},{"$f":"SUM(U12:U40)","v":0},"х","х","х","х","х",{"$f":"T41+U41","v":0},{"$f":"SUM(AB12:AB40)","v":0},{"$f":"SUM(AC12:AC40)","v":0},{"$f":"SUM(AD12:AD40)","v":0},{"$f":"SUM(AE12:AE40)","v":0}]
[null,"Контролен ред",null,null,null,null,null,null,null,null,null,null,null,{"$f":"SUM(C41:M41)","v":0},"х","х","х","х","х","х","х","х","х","х","х","х","х","х","х","х","х"]
["31","Средна месечна работна заплата в отделенията","х","х","х","х","х","х","х","х","х","х","х","х","х","х","х","х","х","х","х","х","х","х","х","х","х"]
["32","Диагностично-консултативен блок","х","х","х","х","х","х","х","х","х","х","х","х","х","х","х","х",{"$f":"SUM(S45:S47)","v":0},"х","х","х","х","х","х","х","х","х","х","х","х"]
["33","в т. ч.:  контролни прегледи","х","х","х","х","х","х","х","х","х","х","х","х","х","х","х","х",null,"х","х","х","х","х","х","х","х","х","х","х","х"]
["34","планова хоспитализация","х","х","х","х","х","х","х","х","х","х","х","х","х","х","х","х",null,"х","х","х","х","х","х","х","х","х","х","х","х"]
["35","спешна хоспитализация","х","х","х","х","х","х","х","х","х","х","х","х","х","х","х","х",null,"х","х","х","х","х","х","х","х","х","х","х","х"]
["36","Трансф. хематология",null,null,null,null,null,null,null,null,null,null,null,{"$f":"SUM(C48:M48)","v":0},{"$f":"Pril3!L48","v":0},{"$f":"Pril2!K48","v":0},null,"х",null,"х","х","х","х","х","х","х","х"]
["37","Диализа",null,null,null,null,null,null,null,null,null,null,null,0,{"$f":"Pril3!L49","v":0},{"$f":"Pril2!K49","v":0},null,"х",null,"х","х","х","х","х","х","х","х"]
["38","Места за краткотраен престой",null,null,null,null,null,null,null,null,null,null,null,0,{"$f":"Pril3!L50","v":0},{"$f":"Pril2!K50","v":0},null,null,null,"х","х","х","х","х","х","х","х"]
["39","ТЕЛК",null,null,null,null,null,null,null,null,null,null,null,0,{"$f":"Pril3!L51","v":0},{"$f":"Pril2!K51","v":0},"х","х",null,"х","х","х","х","х","х","х","х"]
["40","Спешно/Неотложно звено",null,null,null,null,null,null,null,null,null,null,null,0,{"$f":"Pril3!L52","v":0},{"$f":"Pril2!K52","v":0},"х","х",null,"х","х","х","х","х","х","х","х"]
["41","Образна диагностика",null,null,null,null,null,null,null,null,null,null,null,0,{"$f":"Pril3!L53","v":0},{"$f":"Pril2!K53","v":0},"х","х",null,"х","х","х","х","х","х","х","х"]
["42","Лаборатории",null,null,null,null,null,null,null,null,null,null,null,0,{"$f":"Pril3!L54","v":0},{"$f":"Pril2!K54","v":0},"х","х",null,"х","х","х","х","х","х","х","х"]
["43","Други ",null,null,null,null,null,null,null,null,null,null,null,0,{"$f":"Pril3!L55","v":0},{"$f":"Pril2!K55","v":0},"х","х",null,"х","х","х","х","х","х","х","х"]
["44","Всичко от р.36 до р.43",{"$f":"SUM(C48:C55)","v":0},{"$f":"SUM(D48:D55)","v":0},0,0,0,0,0,0,0,0,0,0,0,0,"х","х","х","х","х","х","х","х","х","х","х",{"$f":"SUM(AB44,AB48:AB55)","v":0},{"$f":"SUM(AC44,AC48:AC55)","v":0},{"$f":"SUM(AD44,AD48:AD55)","v":0},{"$f":"SUM(AE44,AE48:AE55)","v":0}]
["45","Средна месечна работна заплата в отделения/звена без легла","х","х","х","х","х","х","х","х","х","х","х","х","х","х","х","х","х","х","х","х","х","х","х","х","х"]
["46","ВСИЧКО ЗА ЛЕЧ.ЗАВЕД. (р.30+р.44)",{"$f":"C41+C56","v":0},0,0,0,0,0,0,0,0,0,0,0,{"$f":"O41+O56+Pril3!L60","v":0},{"$f":"P41+P56+P62","v":0},"х","х","х","х","х","х","х","х","х","х","х",{"$f":"AB41+AB56+AB62","v":0},{"$f":"AC41+AC56+AC62","v":0},{"$f":"AD41+AD56+AD62","v":0},{"$f":"AE41+AE56+AE62","v":0}]
["47","Забележки"]
["48","Разходи по централна доставка за отделения с легла","х","х","х","х",null,null,"х","х","х",null,null,{"$f":"G60+H60+L60+M60","v":0},"х",{"$f":"Pril2!K60","v":0},"х","х","х","х","х","х","х","х","х","х","х","х","х","х","х"]
["49","Разходи по централна доставка за отделения/звена без легла","х","х","х","х",null,null,"х","х","х",null,null,{"$f":"G61+H61+L61+M61","v":0},"х",{"$f":"Pril2!K61","v":0},"х","х","х","х","х","х","х","х","х","х","х","х","х","х","х"]
["50","ОБЩОБОЛНИЧНИ РАЗХОДИ (посочва се сумата на общоболничните разходи, разпределени и включени по отделенията/звената)",null,null,null,null,null,null,null,null,null,null,null,{"$f":"SUM(C62:M62)","v":0},"х",{"$f":"Pril2!K62","v":0},"х","х","х","х","х","х","х","х","х","х","х"]
[]
[null,null,"Директор РЗИ:",null,null,null,null,null,null,null,null,"Гл. счетоводител:",null,null,null,null,null,"Директор Р З И:",{"$f":"D64","v":0},null,null,null,null,null,null,null,"Гл. счетоводител:",null,{"$f":"N64","v":0}]
[null,null,"Дата:",null,null,null,null,null,null,null,null,"Директор:",null,null,null,null,null,"Дата:",{"$f":"D65","v":"00:00:00"},null,null,null,null,null,null,null,"Директор:",null,{"$f":"N65","v":0}]
[null,null,null,null,null,null,null,null,null,null,null,"Дата:",null,null,null,null,null,null,null,null,null,null,null,null,null,null,"Дата:",null,{"$f":"N66","v":"00:00:00"}]
[null,null,null,null,null,null,null,null,null,null,null,"Телефон за връзка:",null,null,null,null,null,null,null,null,null,null,null,null,null,null,"Телефон за връзка:",null,{"$f":"N67","v":0}]

{"sheet":"Pril2","index":1,"n_rows":67,"n_cols":11,"rows_kept":67,"cut":false,"hidden":false,"merged":[[66,6,66,7],[66,8,66,9],[5,0,5,10],[8,0,9,0],[8,1,9,1],[8,2,8,10],[63,2,63,4],[63,6,63,7],[63,8,63,9],[64,2,64,3],[64,6,64,7],[64,8,64,9],[65,6,65,7],[65,8,65,9],[0,9,0,10],[2,2,2,4],[2,6,2,9],[3,2,3,5],[3,6,3,7],[3,8,3,9]]}
[null,null,null,null,null,null,null,null,null,"Приложение 2"]
[]
[{"$f":"Pril1!A2","v":""},null,{"$f":"Pril1!E2","v":0},null,null,"Община:",{"$f":"Pril1!I2","v":""}]
[{"$f":"Pril1!A3","v":""},null,{"$f":"Pril1!E3","v":0},null,null,null,"Регистрационен №:",null,{"$f":"Pril1!L3","v":""}]
[]
["Таблица на приходите на лечебното заведение "]
[null,null,null,null,"през",{"$f":"Pril1!J6","v":2020},"г."]
[]
["№","БОЛНИЧНИ ОТДЕЛЕНИЯ / ЗВЕНА","П   Р   И   Х   О   Д   И"]
[null,null,"Приходи от МЗ","Приходи от общнско финансиране","Приходи от НЗОК","Приходи от ДЗОФ","Приходи от потребител-ски такси","Приходи от продажби на стоки, услуги и други","Приходи от дарения","Други приходи","ВСИЧКО ПРИХОДИ"]
[1,2,3,4,5,6,7,8,9,10,11]
["01","Интензивни",null,null,null,null,null,null,null,null,{"$f":"SUM(C12:J12)","v":0}]
["02","Гинекология",null,null,null,null,null,null,null,null,{"$f":"SUM(C13:J13)","v":0}]
["03","Родилни",null,null,null,null,null,null,null,null,0]
["04","Патологична бременност",null,null,null,null,null,null,null,null,0]
["05","Педиатрични",null,null,null,null,null,null,null,null,0]
["06","Вътрешни болести",null,null,null,null,null,null,null,null,0]
["07","Гастроентерология",null,null,null,null,null,null,null,null,0]
["08","Ендокринология и болести на обмяната",null,null,null,null,null,null,null,null,0]
["09","Кардиология",null,null,null,null,null,null,null,null,0]
["10","Нефрология",null,null,null,null,null,null,null,null,0]
["11","Ревматология",null,null,null,null,null,null,null,null,0]
["12","Пневмология и фтизиатрия",null,null,null,null,null,null,null,null,0]
["13","Клинична хематология",null,null,null,null,null,null,null,null,0]
["14","Инфекциозни болести",null,null,null,null,null,null,null,null,0]
["15","COVID-19 инфекция",null,null,null,null,null,null,null,null,0]
["16","Нервни болести",null,null,null,null,null,null,null,null,0]
["17","Кожни и венерически болести",null,null,null,null,null,null,null,null,0]
["18","Медицинска онкология",null,null,null,null,null,null,null,null,0]
["19","Лъчелечение",null,null,null,null,null,null,null,null,0]
["20","Хирургия",null,null,null,null,null,null,null,null,0]
["21","Неврохирургия",null,null,null,null,null,null,null,null,0]
["22","Ортопедия и травматология",null,null,null,null,null,null,null,null,0]
["23","Урология",null,null,null,null,null,null,null,null,0]
["24","Очни болести ",null,null,null,null,null,null,null,null,0]
["25","Ушно-носно-гърлени болести",null,null,null,null,null,null,null,null,0]
["26","За дългосрочни грижи",null,null,null,null,null,null,null,null,0]
["27","За рехабилитация",null,null,null,null,null,null,null,null,0]
["28","Психиатрични",null,null,null,null,null,null,null,null,0]
["29","Други сециалицирани",null,null,null,null,null,null,null,null,0]
["30","Всичко от р.1 до р. 29",{"$f":"SUM(C12:C40)","v":0},0,0,0,0,0,0,0,0]
[null,"Контролен ред",null,null,null,null,null,null,null,null,{"$f":"SUM(C41:J41)","v":0}]
["31","х","х","х","х","х","х","х","х","х","х"]
["32","Диагностично-консултативен блок","х","х","х","х","х","х","х","х","х"]
["33","в т. ч.:  контролни прегледи","х","х","х","х","х","х","х","х","х"]
["34","планова хоспитализация","х","х","х","х","х","х","х","х","х"]
["35","спешна хоспитализация","х","х","х","х","х","х","х","х","х"]
["36","Трансф. хематология",null,null,null,null,null,null,null,null,{"$f":"SUM(C48:J48)","v":0}]
["37","Диализа",null,null,null,null,null,null,null,null,{"$f":"SUM(C49:J49)","v":0}]
["38","Места за краткотраен престой",null,null,null,null,null,null,null,null,{"$f":"SUM(C50:J50)","v":0}]
["39","ТЕЛК",null,null,null,null,null,null,null,null,{"$f":"SUM(C51:J51)","v":0}]
["40","Спешно/Неотложно звено",null,null,null,null,null,null,null,null,0]
["41","Образна диагностика",null,null,null,null,null,null,null,null,0]
["42","Лаборатории",null,null,null,null,null,null,null,null,0]
["43","Други ",null,null,null,null,null,null,null,null,0]
["44","Всичко от р.36 до р.43",{"$f":"SUM(C48:C55)","v":0},0,0,0,0,0,0,0,0]
["45","х","х","х","х","х","х","х","х","х","х"]
["46","ВСИЧКО ЗА ЛЕЧ.ЗАВЕД. (р.30+р.44+р.50)",{"$f":"C41+C56+C62","v":0},0,0,0,0,0,0,0,0]
["47","Забележки"]
["48","Приходи по централна доставка за отделения с легла",null,null,null,null,null,null,null,null,{"$f":"SUM(C60:J60)","v":0}]
["49","Приходи по централна доставка за отделения/звена без легла",null,null,null,null,null,null,null,null,{"$f":"SUM(C61:J61)","v":0}]
["50","ОБЩОБОЛНИЧНИ ПРИХОДИ (приходи, които не могат да се разпределят по отделения/звена)",null,null,null,null,null,null,null,null,{"$f":"SUM(C62:J62)","v":0}]
[]
[null,"Директор Р З И:",{"$f":"Pril1!D64","v":0},null,null,null,"Гл. счетоводител:",null,{"$f":"Pril1!N64","v":0}]
[null,"Дата:",{"$f":"Pril1!D65","v":"00:00:00"},null,null,null,"Директор:",null,{"$f":"Pril1!N65","v":0}]
[null,null,null,null,null,null,"Дата:",null,{"$f":"Pril1!N66","v":"00:00:00"}]
[null,null,null,null,null,null,"Телефон за връзка:",null,{"$f":"Pril1!N67","v":0}]

{"sheet":"Pril3","index":2,"n_rows":65,"n_cols":12,"rows_kept":65,"cut":false,"hidden":false,"merged":[[63,8,63,9],[63,10,63,11],[64,8,64,9],[64,10,64,11],[61,2,61,4],[61,8,61,9],[61,10,61,11],[62,2,62,3],[62,8,62,9],[62,10,62,11],[8,0,9,0],[8,1,9,1],[8,2,9,2],[8,3,8,8],[8,9,8,10],[8,11,9,11],[2,2,2,5],[2,7,2,10],[3,2,3,6],[3,7,3,8],[3,9,3,10],[5,1,5,10]]}
[null,null,null,null,null,null,null,null,null,null,null,"Приложение 3"]
[]
[{"$f":"Pril1!A2","v":""},"Област:",{"$f":"Pril1!E2","v":0},null,null,null,"Община:",{"$f":"Pril1!I2","v":""}]
[{"$f":"Pril1!A3","v":""},"Лечебно заведение:",{"$f":"Pril1!E3","v":0},null,null,null,null,"Регистрационен №:",null,{"$f":"Pril1!L3","v":""}]
[]
[null,"Разходи за придобиване на дълготрайни активи  в лечебното заведение "]
[null,null,null,null,"през",{"$f":"Pril1!J6","v":2020},"г."]
[]
["№","БОЛНИЧНИ ОТДЕЛЕНИЯ / ЗВЕНА","Основен ремонт на ДМА"," Придобиване на дълготрайни материални активи",null,null,null,null,null," Придобиване на немат. дълготрайни активи",null,"ВСИЧКО КАПИТАЛОВИ РАЗХОДИ ЗА ЛЕЧЕБНОТО ЗАВЕДЕНИЕ"]
[null,null,null,"компютри и хардуер","друго оборудв. машини и съоръж.","транспортни средства","стопански инвентар","инфра-структурни обекти","други ДМА","програмни продукти","други"]
[1,2,3,4,5,6,7,8,9,10,11,12]
["01","Интензивни",null,null,null,null,null,null,null,null,null,{"$f":"SUM(C12:K12)","v":0}]
["02","Гинекология",null,null,null,null,null,null,null,null,null,{"$f":"SUM(C13:K13)","v":0}]
["03","Родилни",null,null,null,null,null,null,null,null,null,0]
["04","Патологична бременност",null,null,null,null,null,null,null,null,null,0]
["05","Педиатрични",null,null,null,null,null,null,null,null,null,0]
["06","Вътрешни болести",null,null,null,null,null,null,null,null,null,0]
["07","Гастроентерология",null,null,null,null,null,null,null,null,null,0]
["08","Ендокринология и болести на обмяната",null,null,null,null,null,null,null,null,null,0]
["09","Кардиология",null,null,null,null,null,null,null,null,null,0]
["10","Нефрология",null,null,null,null,null,null,null,null,null,0]
["11","Ревматология",null,null,null,null,null,null,null,null,null,0]
["12","Пневмология и фтизиатрия",null,null,null,null,null,null,null,null,null,0]
["13","Клинична хематология",null,null,null,null,null,null,null,null,null,0]
["14","Инфекциозни болести",null,null,null,null,null,null,null,null,null,0]
["15","COVID-19 инфекция",null,null,null,null,null,null,null,null,null,0]
["16","Нервни болести",null,null,null,null,null,null,null,null,null,0]
["17","Кожни и венерически болести",null,null,null,null,null,null,null,null,null,0]
["18","Медицинска онкология",null,null,null,null,null,null,null,null,null,0]
["19","Лъчелечение",null,null,null,null,null,null,null,null,null,0]
["20","Хирургия",null,null,null,null,null,null,null,null,null,0]
["21","Неврохирургия",null,null,null,null,null,null,null,null,null,0]
["22","Ортопедия и травматология",null,null,null,null,null,null,null,null,null,0]
["23","Урология",null,null,null,null,null,null,null,null,null,0]
["24","Очни болести ",null,null,null,null,null,null,null,null,null,0]
["25","Ушно-носно-гърлени болести",null,null,null,null,null,null,null,null,null,0]
["26","За дългосрочни грижи",null,null,null,null,null,null,null,null,null,0]
["27","За рехабилитация",null,null,null,null,null,null,null,null,null,0]
["28","Психиатрични",null,null,null,null,null,null,null,null,null,0]
["29","Други сециалицирани",null,null,null,null,null,null,null,null,null,0]
["30","Всичко от р.1 до р. 29",{"$f":"SUM(C12:C40)","v":0},0,0,0,0,0,0,0,0,0]
[null,"Контролен ред",null,null,null,null,null,null,null,null,null,{"$f":"SUM(C41:K41)","v":0}]
["31","х","х","х","х","х","х","х","х","х","х","х"]
["32","Диагностично-консултативен блок","х","х","х","х","х","х","х","х","х","х"]
["33","в т. ч.:  контролни прегледи","х","х","х","х","х","х","х","х","х","х"]
["34","планова хоспитализация","х","х","х","х","х","х","х","х","х","х"]
["35","спешна хоспитализация","х","х","х","х","х","х","х","х","х","х"]
["36","Трансф.хематология",null,null,null,null,null,null,null,null,null,{"$f":"SUM(C48:K48)","v":0}]
["37","Диализа",null,null,null,null,null,null,null,null,null,{"$f":"SUM(C49:K49)","v":0}]
["38","Места за краткотраен престой",null,null,null,null,null,null,null,null,null,{"$f":"SUM(C50:K50)","v":0}]
["39","ТЕЛК",null,null,null,null,null,null,null,null,null,{"$f":"SUM(C51:K51)","v":0}]
["40","Спешно/Неотложно звено",null,null,null,null,null,null,null,null,null,0]
["41","Образна диагностика",null,null,null,null,null,null,null,null,null,0]
["42","Лаборатории",null,null,null,null,null,null,null,null,null,0]
["43","Други ",null,null,null,null,null,null,null,null,null,0]
["44","Всичко от р.36 до р.43",{"$f":"SUM(C48:C55)","v":0},0,0,0,0,0,0,0,0,0]
["45","х","х","х","х","х","х","х","х","х","х","х"]
["46","ВСИЧКО ЗА ЛЕЧ.ЗАВЕД. (р.30+р.44+р.48)",{"$f":"C41+C56+C60","v":0},0,0,0,0,0,0,0,0,0]
["47","Забележки"]
["48","ОБЩОБОЛНИЧНИ КАПИТАЛОВИ РАЗХОДИ (капиталови разходи, които не могат да се разпределят по отделения/звена)",null,null,null,null,null,null,null,null,null,{"$f":"SUM(C60:K60)","v":0}]
[]
[null,"Директор Р З И:",{"$f":"Pril1!D64","v":0},null,null,null,null,null,"Гл. счетоводител:",null,{"$f":"Pril1!N64","v":0}]
[null,"Дата:",{"$f":"Pril1!D65","v":"00:00:00"},null,null,null,null,null,"Директор:",null,{"$f":"Pril1!N65","v":0}]
[null,null,null,null,null,null,null,null,"Дата:",null,{"$f":"Pril1!N66","v":"00:00:00"}]
[null,null,null,null,null,null,null,null,"Телефон за връзка:",null,{"$f":"Pril1!N67","v":0}]

{"sheet":"obl","index":3,"n_rows":28,"n_cols":2,"rows_kept":28,"cut":false,"hidden":true,"merged":[]}
["01 Благоевград          ","01"]
["02 Бургас               ","02"]
["03 Варна                ","03"]
["04 Велико Търново       ","04"]
["05 Видин                ","05"]
["06 Враца                ","06"]
["07 Габрово              ","07"]
["08 Добрич               ","08"]
["09 Кърджали             ","09"]
["10 Кюстендил            ","10"]
["11 Ловеч                ","11"]
["12 Монтана              ","12"]
["13 Пазарджик            ","13"]
["14 Перник               ","14"]
["15 Плевен               ","15"]
["16 Пловдив              ","16"]
["17 Разград              ","17"]
["18 Русе                 ","18"]
["19 Силистра             ","19"]
["20 Сливен               ","20"]
["21 Смолян               ","21"]
["22 София (столица)      ","22"]
["23 София                ","23"]
["24 Стара Загора         ","24"]
["25 Търговище            ","25"]
["26 Хасково              ","26"]
["27 Шумен                ","27"]
["28 Ямбол                ","28"]

{"sheet":"zav","index":4,"n_rows":195,"n_cols":6,"rows_kept":195,"cut":false,"hidden":true,"merged":[]}
["01","0103","01  МБАЛ - Благоевград","0103211001","411001","Благоевград"]
["01","0111","01  МБАЛ Ив. Скендеров - Гоце Делчев","0111211004","211002","Гоце Делчев"]
["01","0140","01  МБАЛ Югозападна болница - Сандански","0140211003","211003","Сандански"]
["01","0137","01  МБАЛ - Разлог","0137211002","211004","Разлог"]
["01","0103","01  СБАЛ по онкология Св. Мина - Благоевград","0103212016","214001","Благоевград"]
["01","0103","01  СБАЛ на ПФЗ - Благоевград","0103212017","312002","Благоевград"]
["01","0133","01  СБР - с. Марикостиново","0133232006","232001","Петрич"]
["01","0103","01  Център за психично здраве - Благоевград","0103331009","331009","Благоевград"]
["02","0204","02  УМБАЛ - Бургас","0204211001","511001","Бургас"]
["02","0201","02  МБАЛ - Айтос","0201211002","211002","Айтос"]
["02","0209","02  МБАЛ - Карнобат","0209211003","211003","Карнобат"]
["02","0217","02  МБАЛ - Поморие","0217211004","211004","Поморие"]
["02","0206","02  МБАЛ - Средец","0206211005","211005","Средец"]
["02","0204","02  СБАЛ по ПФЗ - Бургас","0204212010","312010","Бургас"]
["02","0204","02  СБР - Бургаски минерални бани","0204232016","232001","Бургас"]
["02","0204","02  Комплексен онкологичен център - Бургас","0204334013","334013","Бургас"]
["02","0204","02  Център за психично здраве Д-р Ив. Темков - Бургас","0204331011","331011","Бургас"]
["03","0306","03  УМБАЛ Св. Марина - Варна","0306211001","511001","Варна"]
["03","0306","03  УМБАЛ Св. Анна - Варна","0306211002","511002","Варна"]
["03","0314","03  МБАЛ - Девня","0314211005","211005","Девня"]
["03","0324","03  МБАЛ Царица Йоанна - Провадия","0324211004","211004","Провадия"]
["03","0306","03  СБАЛ  по ПФЗ - Варна","0306212025","312025","Варна"]
["03","0306","03  СБАЛОЗ М.А. Марков - Варна","0306212026","214026","Варна"]
["03","0306","03  СБАЛ  по АГ Проф. д-р Д. Стаматов - Варна","0306212008","213008","Варна"]
["03","0306","03  СБАЛ  по очни болести - Варна","0306212007","212007","Варна"]
["03","0306","03  СБР - Журналист - к.к. Зл. пясъци","0306232012","232012","Варна"]
["04","0404","04  МБАЛ Д-р Ст. Черкезов - В. Търново","0404211001","411001","Велико Търново"]
["04","0406","04  МБАЛ Св. Ив. Рилски - Г. Оряховица","0406211002","211002","Горна Оряховица"]
["04","0422","04  МБАЛ - Павликени","0422211004","211004","Павликени"]
["04","0428","04  МБАЛ - Д-р Д.Павлович - Свищов","0428211006","211006","Свищов"]
["04","0404","04  СБАЛ ПФЗ Д-р Трейман - В. Търново","0404212017","312017","Велико Търново"]
["04","0404","04  Държавна психиатрична болница - Церова кория","0404242012","242012","Велико Търново"]
["04","0404","04  Център за кожно-венерически заболявания - В. Търново","0404333010","333010","Велико Търново"]
["04","0404","04  Комплексен онкологичен център - В. Търново","0404334009","334009","Велико Търново"]
["04","0404","04  Център за психично здраве - В. Търново","0404331011","331011","Велико Търново"]
["05","0509","05  МБАЛ Св. Петка - Видин","0509211001","411001","Видин"]
["05","0501","05  МБАЛ Проф. Г. Златарски - Белоградчик","0501211002","211002","Белоградчик"]
["06","0610","06  МБАЛ Хр. Ботев - Враца","0610211001","411001","Враца"]
["06","0608","06  МБАЛ - Бяла Слатина","0608211004","211004","Бяла Слатина"]
["06","0620","06  МБАЛ Св. Ив. Рилски - Козлодуй","0608211003","211003","Козлодуй"]
["06","0627","06  МБАЛ - Мездра","0627211002","211002","Мездра"]
["06","0610","06  СБАЛ за ПФЗ - Враца","0610212018","312018","Враца"]
["06","0632","06  СБПЛ на ББ - Роман, Враца","0632222014","222014","Роман"]
["06","0627","06  СБПЛР на ВБ - Мездра, Враца","0627252021","252021","Мездра"]
["06","0610","06  Център за кожно-венерически заболявания - Враца","0610333009","333009","Враца"]
["06","0610","06  Комплексен онкологичен център - Враца","0610334010","334010","Враца"]
["06","0610","06  Център за психично здраве - Враца","0610331008","331008","Враца"]
["07","0705","07  МБАЛ Д-р Т. Венкова - Габрово","0705211001","411001","Габрово"]
["07","0729","07  МБАЛ Д-р Ст. Христов - Севлиево","0729211003","211003","Севлиево"]
["07","0735","07  МБАЛ Д-р Т. Витанов - Трявна","0735211004","211004","Трявна"]
["07","0705","07  СБАЛ на ББ - Габрово","0705212005","412005","Габрово"]
["07","0735","07  Детска СБПЛР на ББ - Трявна, Габрово","0735222010","262010","Трявна"]
["07","0729","07  Държавна психиатрична болница - Севлиево","0729242006","242006","Севлиево"]
["08","0828","08  МБАЛ П. Хитов - Добрич","0828211001","411001","Добрич"]
["08","0803","08  МБАЛ - Балчик","0803211002","211002","Балчик"]
["08","0817","08  МБАЛ - Каварна","0817211003","211003","Каварна"]
["08","0803","08  Държавна психиатрична болница - Карвуна","0803242011","242011","Балчик"]
["08","0803","08  СБР Тузлата - Балчик, Добрич","0803232008","232008","Балчик"]
["08","0828","08  Център за психично здраве Д-р П. Станчев - Добрич","0828331007","331007","Добрич"]
["09","0916","09  МБАЛ Д-р Ат. Дафовски - Кърджали","0916211001","411001","Кърджали"]
["09","0902","09  МБАЛ - Ардино","0902211002","211002","Ардино"]
["09","0915","09  МБАЛ Живот+ - Крумовград","0915211004","211004","Крумовград"]
["09","0921","09  МБАЛ Д-р С. Ростовцев - Момчилград","0921211003","211003","Момчилград"]
["09","0916","09  Държавна психиатрична болница - Кърджали","0916242006","242006","Кърджали"]
["10","1029","10  МБАЛ Д-р Н. Василев - Кюстендил","1029211001","411001","Кюстендил"]
["10","1048","10  МБАЛ Св. Ив. Рилски - Дупница","1048211002","211002","Дупница"]
["11","1118","11  МБАЛ Проф. д-р П. Стоянов - Ловеч","1118211001","411001","Ловеч"]
["11","1119","11  МБАЛ - Луковит","1119211004","211004","Луковит"]
["11","1134","11  МБАЛ - Троян","1134211002","211002","Троян"]
["11","1133","11  МБАЛ Д-р Анг. Пешев - Тетевен","1133211003","211003","Тетевен"]
["11","1134","11  СБАЛ на ББ - Троян","1134212005","412005","Троян"]
["11","1118","11  Държавна психиатрична болница - Ловеч","1118242006","242006","Ловеч"]
["11","1119","11  Държавна психиатрична болница - Карлуково","1119242007","242007","Луковит"]
["12","1229","12  МБАЛ Д-р Ст. Илиев - Монтана","1229211001","411002","Монтана"]
["12","1202","12  МБАЛ - Берковица","1202211002","211002","Берковица"]
["12","1224","12  МБАЛ Св. Н. Чудотворец  - Лом","1224211003","211003","Лом"]
["13","1319","13  МБАЛ - Пазарджик","1319211001","411001","Пазарджик"]
["13","1308","13  МБАЛ - Велинград","1308211004","211004","Велинград"]
["13","1319","13  СБАЛ на ПФЗ - Пазарджик","1319212018","312018","Пазарджик"]
["13","1308","13  СБПЛР ПФЗ Св. Петка Българска - Велинград","1308212012","272012","Велинград"]
["13","1319","13  Държавна психиатрична болница - Пазарджик","1319242007","242007","Пазарджик"]
["14","1432","14  МБАЛ Р. Ангелова - Перник","1432211001","411001","Перник"]
["14","1432","14  СБАЛ по ББ - Перник","1432212005","412005","Перник"]
["14","1432","14  СБПЛР - Перник","1432252010","252010","Перник"]
["15","1524","15  УМБАЛ Д-р Г. Странски - Плевен","1524211001","511001","Плевен"]
["15","1503","15  МБАЛ - Белене","1503211006","211006","Белене"]
["15","1508","15  МБАЛ - Гулянци","1508211005","211005","Гулянци"]
["15","1539","15  МБАЛ - Кнежа","1539211012","211012","Кнежа"]
["15","1516","15  МБАЛ - Левски","1516211003","211003","Левски"]
["15","1521","15  МБАЛ - Никопол","1521211004","211004","Никопол"]
["15","1537","15  МБАЛ - Червен бряг","1537211002","211002","Червен бряг"]
["16","1622","16  УМБАЛ Св. Георги - Пловдив","1622211001","511001","Пловдив"]
["16","1622","16  УМБАЛ - Пловдив","1622211002","511002","Пловдив"]
["16","1622","16  МБАЛ Св. Мина - Пловдив","1622211003","211003","Пловдив"]
["16","1622","16  МБАЛ Св. Пантелеймон - Пловдив","1622211004","211004","Пловдив"]
["16","1601","16  МБАЛ - Асеновград","1601211005","211005","Асеновград"]
["16","1613","16  МБАЛ Д-р К. Попов - Карлово","1613211006","211006","Карлово"]
["16","1623","16  МБАЛ - Първомай","1623211007","211007","Първомай"]
["16","1625","16  МБАЛ - Раковски","1625211008","211008","Раковски"]
["16","1643","16  МБПЛ Ив. Раев - Сопот","1643221052","221052","Сопот"]
["16","1641","16  МБПЛР - Стамболийски","1641221053","231053","Стамболийски"]
["16","1622","16  Център за кожно-венерически заболявания - Пловдив","1622333018","333018","Пловдив"]
["16","1622","16  Комплексен онкологичен център - Пловдив","1622334019","334019","Пловдив"]
["16","1622","16  Център за психично здраве - Пловдив","1622331017","331017","Пловдив"]
["17","1726","17  МБАЛ Св. Ив. Рилски - Разград","1726211001","411001","Разград"]
["17","1714","17  МБАЛ - Исперих","1714211002","211002","Исперих"]
["17","1716","17  МБАЛ - Кубрат","1716211003","211003","Кубрат"]
["18","1827","18  УМБАЛ Канев - Русе","1827211001","511001","Русе"]
["18","1804","18  МБАЛ Ю. Вревска - Бяла","1804211002","211002","Бяла"]
["18","1827","18  СБАЛ за ПФЗ Д-р Д. Граматиков - Русе","1827212016","312016","Русе"]
["18","1804","18  Държавна психиатрична болница - Бяла","1804242010","242010","Бяла"]
["18","1827","18  Комплексен онкологичен център - Русе","1827334009","334009","Русе"]
["18","1827","18  Център за психично здраве - Русе","1827331007","331007","Русе"]
["19","1931","19  МБАЛ - Силистра","1931211001","411001","Силистра"]
["19","1934","19  МБАЛ - Тутракан","1934211002","211002","Тутракан"]
["19","1910","19  МБАЛ - Дулово","1910211003","211003","Дулово"]
["20","2020","20  МБАЛ Ив. Селимински - Сливен","2020211001","411001","Сливен"]
["20","2016","20  МБАЛ Св. П. Българска - Нова Загора","2016211002","211002","Нова Загора"]
["20","2011","20  СБР - Котел","2011252017","232017","Котел"]
["21","2131","21  МБАЛ Д-р Бр. Шукеров - Смолян","2131211001","411001","Смолян"]
["21","2109","21  МБАЛ - Девин","2109211004","211004","Девин"]
["21","2111","21  МБАЛ Д-р Ас. Шопов - Златоград","2111211002","211002","Златоград"]
["21","2116","21  МБАЛ Проф. д-р К. Чилов - Мадан","2116211003","211003","Мадан"]
["21","2131","21  Център за психично здраве - Смолян","2131331007","331007","Смолян"]
["22","2201","22  Първа МБАЛ - София-столица","2201211032","211032","Столична"]
["22","2201","22  Втора МБАЛ - София-столица","2201211033","211033","Столична"]
["22","2201","22  Четвърта МБАЛ - София-столица","2201211034","211034","Столична"]
["22","2201","22  Пета МБАЛ - София-столица","2201211035","511035","Столична"]
["22","2201","22  УМБАЛСМ Пирогов - София-столица","2201211003","511003","Столична"]
["22","2201","22  УМБАЛ Александровска - София-столица","2201211055","511055","Столична"]
["22","2201","22  УМБАЛ Св. Ив. Рилски - София-столица","2201211004","511004","Столична"]
["22","2201","22  УМБАЛ Царица Йоанна - София-столица","2201211002","511002","Столична"]
["22","2201","22  УМБАЛ по НП Св. Наум - София-столица","2201212009","511009","Столична"]
["22","2201","22  УМБАЛ НКБ - София-столица","2201211083","511083","Столична"]
["22","2201","22  УМБАЛ Св. Екатерина - София-столица","2201211005","511005","Столична"]
["22","2201","22  УМБАЛ по ББ Св. София - София-столица","2201212013","511013","Столична"]
["22","2201","22  УСБАЛ по АГ Майчин дом - София-столица","2201212006","512006","Столична"]
["22","2201","22  УСБАЛ по ортопедедия Проф. Б. Бойчев - София-столица","2201212010","512010","Столична"]
["22","2201","22  УСБАЛ по детски болести Проф. Ив. Митев- София-столица","2201212012","512012","Столична"]
["22","2201","22  УСБАЛ по ендокринология Акад. Ив. Пенчев - София-столица","2201212011","512011","Столична"]
["22","2201","22  УСБАЛ по ИПЗ Проф. Ив. Киров - София-столица","2201212014","512014","Столична"]
["22","2201","22  УСБАЛ по онкология - София-столица","2201214020","512020","Столична"]
["22","2201","22  УСБАЛ на хематологични заболявания - София-столица","2201212075","512075","Столична"]
["22","2201","22  СБАЛ по ОЗ - София-столица","2201212086","214086","Столична"]
["22","2201","22  Първа СБАЛ по АГ Св. София - София-столица","2201212007","213007","Столична"]
["22","2201","22  Втора СБАЛ по АГ Шейново - София-столица","2201212008","213008","Столична"]
["22","2201","22  СБ за физикална терапия и рехабилитация - Овча купел","2201234021","234021","Столична"]
["22","2201","22  СБР НК - филиал Банкя","2201233087","233087","Столична"]
["22","2201","22  СБР на деца с церебрална парализа Св. София - София-столица","2201222027","232027","Столична"]
["22","2201","22  СБПЛР - Бухово","2201222025","252025","Столична"]
["22","2201","22  СБПЛР - Кремиковци","2201222024","252024","Столична"]
["22","2201","22  СБПЛР - Панчарево","2201222026","252026","Столична"]
["22","2201","22  СБПФЗПЛР Цар Фердинанд - Искрец","2301222013","272013","Столична"]
["22","2201","22  Държавна психиатрична болница Св.Ив.Рилски - Нови Искър","2201242023","242023","Столична"]
["22","2201","22  ДПБ за лечение на наркомании и алкохолизъм - София-столица","2201242099","242099","Столична"]
["22","2201","22  Център за психично здраве Проф. Н. Шипковенски  - София-столица","2201331047","331047","Столична"]
["23","2301","23  УМБАЛ Св. Анна - София","2201211001","511001","София"]
["23","2307","23  МБАЛ - Ботевград","2307211002","211002","Ботевград"]
["23","2317","23  МБАЛ - Елин Пелин","2317211004","211004","Елин Пелин"]
["23","2318","23  МБАЛ Проф. д-р Ал. Герчев - Етрополе","2318211005","211005","Етрополе"]
["23","2320","23  МБАЛ - Ихтиман","2320211006","211006","Ихтиман"]
["23","2355","23  МБАЛ - Пирдоп","2355211007","211007","Пирдоп"]
["23","2339","23  МБАЛ - Самоков","2339211009","211009","Самоков"]
["23","2343","23  МБАЛ - Своге","2343211008","211008","Своге"]
["23","2301","23  СБАЛ по онкологични заболявания - София","2301212022","214022","София"]
["23","2301","23  СБАЛ за ПФЗ - София","2301212023","312023","София"]
["23","2325","23  СБПЛР - Костенец","2325222010","252010","Костенец"]
["23","2301","23  Център за психично здраве - София","2301331014","331014","София"]
[24,"2431","24  УМБАЛ Проф. Ст. Киркович - Ст. Загора","2431211002","511002","Стара Загора"]
[24,"2412","24  МБАЛ Д-р Хр. Стамболски - Казанлък","2412211003","211003","Казанлък"]
[24,"2436","24  МБАЛ - Чирпан","2436211004","211004","Чирпан"]
[24,"2427","24  МБАЛ Д-р Д. Чакмаков - Раднево","2427211006","211006","Раднево"]
[24,"2407","24  МБАЛ - Гълъбово","2407211005","211005","Гълъбово"]
[24,"2431","24  СБАЛ за ПФЗ - Ст. Загора","2431212027","312027","Стара Загора"]
[24,"2427","24  Държавна психиатрична болница Д-р Г. Кнесьов - Раднево","2424242013","242013","Раднево"]
[24,"2431","24  Комплексен онкологичен център - Ст. Загора","2431334012","334012","Стара Загора"]
[24,"2431","24  Център за психично здраве - Ст. Загора","2431331010","331010","Стара Загора"]
["25","2535","25  МБАЛ - Търговище","2535211001","411001","Търговище"]
["25","2524","25  МБАЛ Д-р Н. Маринов - Попово","2524211002","211002","Попово"]
["25","2522","25  МБАЛ Д-р П. Томов - Омуртаг","2522211003","211003","Омуртаг"]
["26","2634","26  МБАЛ - Хасково","2634211001","411001"," Хасково"]
["26","2609","26  МБАЛ Св. Екатерина - Димитровград","2609211002","211002","Димитровград"]
["26","2628","26  МБАЛ - Свиленград","2628211004","211004","Свиленград"]
["26","2633","26  МБАЛ - Харманли","2633211003","211003","Харманли"]
["26","2632","26  СБАЛ ВБ - Тополовград","2632212018","212018","Тополовград"]
["26","2634","26  СБАЛ ПФЗ - Хасково","2634212016","312016"," Хасково"]
["26","2634","26  СБАЛ по онкология - Хасково","2634212017","214017"," Хасково"]
["26","2617","26  СБПЛР - Любимец","2617212008","252008","Любимец"]
["26","2634","26  Център за психично здраве - Хасково","2634331010","331010"," Хасково"]
["27","2730","27  МБАЛ - Шумен","2730211001","411001","Шумен"]
["27","2723","27  МБАЛ - В. Преслав","2723211002","211002","Велики Преслав"]
["27","2730","27  Държавна психиатрична болница -  Царев брод","2730242005","242005","Шумен"]
["27","2730","27  Комплексен онкологичен център - Шумен","2730334007","334007","Шумен"]
["28","2826","28  МБАЛ Св. Пантелеймон - Ямбол","2826211001","411001","Ямбол"]
["28","2807","28  МБАЛ Св. Ив. Рилски - Елхово","2807211002","211002","Елхово"]